BEGIN:VCALENDAR
VERSION:2.0
PRODID:-//Forma Ecclesia - ECPv6.15.17//NONSGML v1.0//EN
CALSCALE:GREGORIAN
METHOD:PUBLISH
X-WR-CALNAME:Forma Ecclesia
X-ORIGINAL-URL:https://formaecclesia.it
X-WR-CALDESC:Eventi per Forma Ecclesia
REFRESH-INTERVAL;VALUE=DURATION:PT1H
X-Robots-Tag:noindex
X-PUBLISHED-TTL:PT1H
BEGIN:VTIMEZONE
TZID:Europe/Rome
BEGIN:DAYLIGHT
TZOFFSETFROM:+0100
TZOFFSETTO:+0200
TZNAME:CEST
DTSTART:20220327T010000
END:DAYLIGHT
BEGIN:STANDARD
TZOFFSETFROM:+0200
TZOFFSETTO:+0100
TZNAME:CET
DTSTART:20221030T010000
END:STANDARD
BEGIN:DAYLIGHT
TZOFFSETFROM:+0100
TZOFFSETTO:+0200
TZNAME:CEST
DTSTART:20230326T010000
END:DAYLIGHT
BEGIN:STANDARD
TZOFFSETFROM:+0200
TZOFFSETTO:+0100
TZNAME:CET
DTSTART:20231029T010000
END:STANDARD
BEGIN:DAYLIGHT
TZOFFSETFROM:+0100
TZOFFSETTO:+0200
TZNAME:CEST
DTSTART:20240331T010000
END:DAYLIGHT
BEGIN:STANDARD
TZOFFSETFROM:+0200
TZOFFSETTO:+0100
TZNAME:CET
DTSTART:20241027T010000
END:STANDARD
END:VTIMEZONE
BEGIN:VEVENT
DTSTART;TZID=Europe/Rome:20230809T194500
DTEND;TZID=Europe/Rome:20230809T203000
DTSTAMP:20260418T201626
CREATED:20230710T150930Z
LAST-MODIFIED:20230728T103451Z
UID:6915-1691610300-1691613000@formaecclesia.it
SUMMARY:Normativa specifica dell’IRC (linee guida e norme contrattuali)
DESCRIPTION:prof. Umberto Rosario Del Giudice (Pontificia Facoltà Teologica dell’Italia meridionale – sezione san Luigi)
URL:https://formaecclesia.it/lezione/normativa-specifica-dellirc-linee-guida-e-norme-contrattuali/
CATEGORIES:Preparazione al concorso IRC - Primo modulo
END:VEVENT
BEGIN:VEVENT
DTSTART;TZID=Europe/Rome:20230809T190000
DTEND;TZID=Europe/Rome:20230809T194500
DTSTAMP:20260418T201626
CREATED:20230710T150844Z
LAST-MODIFIED:20230728T103458Z
UID:6913-1691607600-1691610300@formaecclesia.it
SUMMARY:Norme comuni ai cicli scolastici
DESCRIPTION:prof. Umberto Rosario Del Giudice (Pontificia Facoltà Teologica dell’Italia meridionale – sezione san Luigi)
URL:https://formaecclesia.it/lezione/norme-comuni-ai-cicli-scolastici/
CATEGORIES:Preparazione al concorso IRC - Primo modulo
END:VEVENT
BEGIN:VEVENT
DTSTART;TZID=Europe/Rome:20230802T194500
DTEND;TZID=Europe/Rome:20230802T203000
DTSTAMP:20260418T201626
CREATED:20230707T153035Z
LAST-MODIFIED:20230710T150745Z
UID:6901-1691005500-1691008200@formaecclesia.it
SUMMARY:La governance della scuola
DESCRIPTION:prof. Diego Vella (Liceo Statale “G. Lombardo Radice” )
URL:https://formaecclesia.it/lezione/la-governance-della-scuola/
CATEGORIES:Preparazione al concorso IRC - Primo modulo
END:VEVENT
BEGIN:VEVENT
DTSTART;TZID=Europe/Rome:20230802T190000
DTEND;TZID=Europe/Rome:20230802T194500
DTSTAMP:20260418T201626
CREATED:20230707T152933Z
LAST-MODIFIED:20230710T150629Z
UID:6898-1691002800-1691005500@formaecclesia.it
SUMMARY:L’istituzione scolastica autonoma e la gestione dell’offerta
DESCRIPTION:prof. Diego Vella (Liceo Statale “G. Lombardo Radice” )
URL:https://formaecclesia.it/lezione/listituzione-scolastica-autonoma-e-la-gestione-dellofferta/
CATEGORIES:Preparazione al concorso IRC - Primo modulo
END:VEVENT
END:VCALENDAR