BEGIN:VCALENDAR
VERSION:2.0
PRODID:-//Forma Ecclesia - ECPv6.15.17//NONSGML v1.0//EN
CALSCALE:GREGORIAN
METHOD:PUBLISH
X-ORIGINAL-URL:https://formaecclesia.it
X-WR-CALDESC:Eventi per Forma Ecclesia
REFRESH-INTERVAL;VALUE=DURATION:PT1H
X-Robots-Tag:noindex
X-PUBLISHED-TTL:PT1H
BEGIN:VTIMEZONE
TZID:Europe/Rome
BEGIN:DAYLIGHT
TZOFFSETFROM:+0100
TZOFFSETTO:+0200
TZNAME:CEST
DTSTART:20230326T010000
END:DAYLIGHT
BEGIN:STANDARD
TZOFFSETFROM:+0200
TZOFFSETTO:+0100
TZNAME:CET
DTSTART:20231029T010000
END:STANDARD
BEGIN:DAYLIGHT
TZOFFSETFROM:+0100
TZOFFSETTO:+0200
TZNAME:CEST
DTSTART:20240331T010000
END:DAYLIGHT
BEGIN:STANDARD
TZOFFSETFROM:+0200
TZOFFSETTO:+0100
TZNAME:CET
DTSTART:20241027T010000
END:STANDARD
BEGIN:DAYLIGHT
TZOFFSETFROM:+0100
TZOFFSETTO:+0200
TZNAME:CEST
DTSTART:20250330T010000
END:DAYLIGHT
BEGIN:STANDARD
TZOFFSETFROM:+0200
TZOFFSETTO:+0100
TZNAME:CET
DTSTART:20251026T010000
END:STANDARD
BEGIN:DAYLIGHT
TZOFFSETFROM:+0100
TZOFFSETTO:+0200
TZNAME:CEST
DTSTART:20260329T010000
END:DAYLIGHT
BEGIN:STANDARD
TZOFFSETFROM:+0200
TZOFFSETTO:+0100
TZNAME:CET
DTSTART:20261025T010000
END:STANDARD
END:VTIMEZONE
BEGIN:VEVENT
DTSTART;TZID=Europe/Rome:20250925T190000
DTEND;TZID=Europe/Rome:20250925T200000
DTSTAMP:20260423T161018
CREATED:20240914T165840Z
LAST-MODIFIED:20250821T164647Z
UID:8321-1758826800-1758830400@formaecclesia.it
SUMMARY:La Chiesa e il Mondo: Gaudium et Spes
DESCRIPTION:Con sua Ecc. Rev. Riccardo Battocchio
URL:https://formaecclesia.it/lezione/la-chiesa-e-il-mondo-gaudium-et-spes/
CATEGORIES:Concilio Vaticano 2.0 (2 Anno)
ATTACH;FMTTYPE=image/png:https://formaecclesia.it/wp-content/uploads/2024/09/Gaudium-et-Spes.png
END:VEVENT
BEGIN:VEVENT
DTSTART;TZID=Europe/Rome:20250917T190000
DTEND;TZID=Europe/Rome:20250917T200000
DTSTAMP:20260423T161018
CREATED:20240914T164951Z
LAST-MODIFIED:20250821T164143Z
UID:8324-1758135600-1758139200@formaecclesia.it
SUMMARY:La vocazione missionaria: Ad Gentes
DESCRIPTION:Con don Graziano Borgonovo
URL:https://formaecclesia.it/lezione/la-vocazione-missionaria-ad-gentes/
CATEGORIES:Concilio Vaticano 2.0 (2 Anno)
ATTACH;FMTTYPE=image/png:https://formaecclesia.it/wp-content/uploads/2024/09/Ad-Gentes.png
END:VEVENT
BEGIN:VEVENT
DTSTART;TZID=Europe/Rome:20250915T190000
DTEND;TZID=Europe/Rome:20250915T200000
DTSTAMP:20260423T161018
CREATED:20240914T170149Z
LAST-MODIFIED:20250821T164210Z
UID:8322-1757962800-1757966400@formaecclesia.it
SUMMARY:L'importanza della libertà religiosa: Dignitatis Humanae
DESCRIPTION:Con don Raffaele Maiolini
URL:https://formaecclesia.it/lezione/limportanza-della-liberta-religiosa-dignitatis-humanae/
CATEGORIES:Concilio Vaticano 2.0 (2 Anno)
ATTACH;FMTTYPE=image/png:https://formaecclesia.it/wp-content/uploads/2024/09/Dignitatis-Humanae.png
END:VEVENT
BEGIN:VEVENT
DTSTART;TZID=Europe/Rome:20250117T190000
DTEND;TZID=Europe/Rome:20250117T200000
DTSTAMP:20260423T161018
CREATED:20240914T164053Z
LAST-MODIFIED:20250103T102257Z
UID:8323-1737140400-1737144000@formaecclesia.it
SUMMARY:Il ruolo dei laici nella Chiesa: Apostolicam Actuositatem
DESCRIPTION:Prof. Gianluca Montaldi\, docente di Teologia presso la sede di Brescia dell’Università Cattolica del Sacro Cuore.
URL:https://formaecclesia.it/lezione/il-ruolo-dei-laici-nella-chiesa-apostolicam-actuositatem/
CATEGORIES:Concilio Vaticano 2.0 (2 Anno)
ATTACH;FMTTYPE=image/png:https://formaecclesia.it/wp-content/uploads/2024/09/Apostolicam-Actuositatem.png
END:VEVENT
BEGIN:VEVENT
DTSTART;TZID=Europe/Rome:20250116T200000
DTEND;TZID=Europe/Rome:20250116T210000
DTSTAMP:20260423T161018
CREATED:20240912T153010Z
LAST-MODIFIED:20250103T101942Z
UID:8315-1737057600-1737061200@formaecclesia.it
SUMMARY:La formazione dei futuri sacerdoti: Optatam Totius
DESCRIPTION:Rev. Prof. Philip Goyret\, professore ordinario di Ecclesiologia presso la Facoltà di Teologia della Pontificia Università della Santa Croce.
URL:https://formaecclesia.it/lezione/la-formazione-dei-futuri-sacerdoti-optatam-totius/
CATEGORIES:Concilio Vaticano 2.0 (2 Anno)
ATTACH;FMTTYPE=image/png:https://formaecclesia.it/wp-content/uploads/2024/09/Optatam-totius.png
END:VEVENT
BEGIN:VEVENT
DTSTART;TZID=Europe/Rome:20250115T190000
DTEND;TZID=Europe/Rome:20250115T200000
DTSTAMP:20260423T161018
CREATED:20240914T163230Z
LAST-MODIFIED:20241209T174725Z
UID:8320-1736967600-1736971200@formaecclesia.it
SUMMARY:Dio ci parla come un amico: Dei Verbum
DESCRIPTION:don Massimo Epis\, giò preside della Facoltà Teologica dell’Italia Settentrionale
URL:https://formaecclesia.it/lezione/dio-ci-parla-come-un-amico-dei-verbum/
CATEGORIES:Concilio Vaticano 2.0 (2 Anno)
ATTACH;FMTTYPE=image/png:https://formaecclesia.it/wp-content/uploads/2024/09/Dei-verbum.png
END:VEVENT
BEGIN:VEVENT
DTSTART;TZID=Europe/Rome:20241003T190000
DTEND;TZID=Europe/Rome:20241003T200000
DTSTAMP:20260423T161018
CREATED:20240830T105228Z
LAST-MODIFIED:20241213T105957Z
UID:8254-1727982000-1727985600@formaecclesia.it
SUMMARY:Le religioni nel mondo e la Chiesa di Cristo - Nostra aetate
DESCRIPTION:L’incontro è tenuto da Laurent Basanese\, padre gesuita\, docente presso la Pontificia Università Gregoriana e  consulente della Commissione per le relazioni Religiose con i Mussulmani del Pontificio Consiglio per il Dialogo Interreligioso.
URL:https://formaecclesia.it/lezione/le-religioni-nel-mondo-e-la-chiesa-di-cristo-nostra-aetate/
CATEGORIES:Concilio Vaticano 2.0 (2 Anno)
ATTACH;FMTTYPE=image/jpeg:https://formaecclesia.it/wp-content/uploads/2024/08/16891647916_df076d259b_b.jpg
END:VEVENT
BEGIN:VEVENT
DTSTART;TZID=Europe/Rome:20241001T190000
DTEND;TZID=Europe/Rome:20241001T200000
DTSTAMP:20260423T161018
CREATED:20240830T105154Z
LAST-MODIFIED:20241213T105542Z
UID:8252-1727809200-1727812800@formaecclesia.it
SUMMARY:La Chiesa e il ruolo educativo - Gravissimum educationis
DESCRIPTION:L’incontro è tenuto dal professor Sergio Cicatelli\, membro di diverse commissioni ministeriali per la scuola e di gruppi di lavoro della Cei per l’insegnamento della religione cattolica e docente di Pedagogia\, Didattica e Legislazione scolastica in diverse università pontificie.
URL:https://formaecclesia.it/lezione/la-chiesa-e-il-ruolo-educativo-gravissimum-educations/
CATEGORIES:Concilio Vaticano 2.0 (2 Anno)
ATTACH;FMTTYPE=image/jpeg:https://formaecclesia.it/wp-content/uploads/2024/08/52776636092_c6b9d3cbcf_b.jpg
END:VEVENT
END:VCALENDAR